BEGIN:VCALENDAR
VERSION:2.0
PRODID:icalendar-ruby
CALSCALE:GREGORIAN
METHOD:PUBLISH
BEGIN:VEVENT
DTSTAMP:20260423T124455Z
UID:16-590036@northbend.tithelysetup5.com
DTSTART:20261022T180000Z
DTEND:20261022T190000Z
CLASS:PUBLIC
CREATED:20260423T053014
DESCRIPTION:
LAST-MODIFIED:20260423T053014
LOCATION:Church
SUMMARY:Ladies Bible Class
URL;VALUE=URI:https://churchofchristnb.com/events/ladies-bible-class/2026-1
 0-22
ATTACH;FILENAME=Bct0.jpg;FMTTYPE=image/jpeg:https://dq5pwpg1q8ru0.cloudfron
 t.net/2025/10/02/03/24/25/032c70da-b12e-4eee-8135-57588bbdb728/Bct0.jpg
END:VEVENT
END:VCALENDAR
