BEGIN:VCALENDAR
VERSION:2.0
PRODID:icalendar-ruby
CALSCALE:GREGORIAN
METHOD:PUBLISH
BEGIN:VEVENT
DTSTAMP:20260419T211420Z
UID:6-578753@northbend.tithelysetup5.com
DTSTART:20261025T163000Z
DTEND:20261025T173000Z
CLASS:PUBLIC
CREATED:20260419T133503
DESCRIPTION:Bible Class
LAST-MODIFIED:20260419T133503
LOCATION:
SUMMARY:Bible Class
URL;VALUE=URI:https://churchofchristnb.com/events/bible-class/2026-10-25
END:VEVENT
END:VCALENDAR
