BEGIN:VCALENDAR
VERSION:2.0
PRODID:icalendar-ruby
CALSCALE:GREGORIAN
METHOD:PUBLISH
BEGIN:VEVENT
DTSTAMP:20260419T193209Z
UID:6-578246@northbend.tithelysetup5.com
DTSTART:20261018T163000Z
DTEND:20261018T173000Z
CLASS:PUBLIC
CREATED:20260419T095239
DESCRIPTION:Bible Class
LAST-MODIFIED:20260419T095239
LOCATION:
SUMMARY:Bible Class
URL;VALUE=URI:https://churchofchristnb.com/events/bible-class/2026-10-18
END:VEVENT
END:VCALENDAR
